BEGIN:VCALENDAR
VERSION:2.0
PRODID:-//The Clement JamesCentre - ECPv6.1.3//NONSGML v1.0//EN
CALSCALE:GREGORIAN
METHOD:PUBLISH
X-WR-CALNAME:The Clement JamesCentre
X-ORIGINAL-URL:https://clementjames.org
X-WR-CALDESC:Events for The Clement JamesCentre
REFRESH-INTERVAL;VALUE=DURATION:PT1H
X-Robots-Tag:noindex
X-PUBLISHED-TTL:PT1H
BEGIN:VTIMEZONE
TZID:Europe/London
BEGIN:DAYLIGHT
TZOFFSETFROM:+0000
TZOFFSETTO:+0100
TZNAME:BST
DTSTART:20240331T010000
END:DAYLIGHT
BEGIN:STANDARD
TZOFFSETFROM:+0100
TZOFFSETTO:+0000
TZNAME:GMT
DTSTART:20241027T010000
END:STANDARD
END:VTIMEZONE
BEGIN:VEVENT
DTSTART;TZID=Europe/London:20240227T110000
DTEND;TZID=Europe/London:20240227T123000
DTSTAMP:20260419T162112
CREATED:20240206T150640Z
LAST-MODIFIED:20240213T095220Z
UID:8183-1709031600-1709037000@clementjames.org
SUMMARY:Gardening Group
DESCRIPTION:Connect with the earth\, learn how to grow plants and vegetables and take some fresh organic herbs home! \nEmail welcome@clementjames.org to find out more and book your slot here!
URL:https://clementjames.org/event/gardening-group-4/
ATTACH;FMTTYPE=image/png:https://clementjames.org/wp-content/uploads/2023/08/Untitled-design-60.png
END:VEVENT
BEGIN:VEVENT
DTSTART;TZID=Europe/London:20240227T110000
DTEND;TZID=Europe/London:20240227T123000
DTSTAMP:20260419T162112
CREATED:20240206T151438Z
LAST-MODIFIED:20240206T151438Z
UID:8195-1709031600-1709037000@clementjames.org
SUMMARY:Adult Learning Registration
DESCRIPTION:Do you want to develop your skills and confidence in English\, maths or digital skills? \nCome to see us for an initial assessment running until the end of March\, where we can assess what course is right for you and register you for any appropriate classes! \nEmail adultlearning@clementjames.org to find our more.
URL:https://clementjames.org/event/adult-learning-registration-4/
ATTACH;FMTTYPE=image/jpeg:https://clementjames.org/wp-content/uploads/2023/10/Clement_James_London_by_John_Cairns_20.9.23-26-1-scaled.jpg
END:VEVENT
END:VCALENDAR