BEGIN:VCALENDAR
VERSION:2.0
PRODID:-//The Clement JamesCentre - ECPv6.1.3//NONSGML v1.0//EN
CALSCALE:GREGORIAN
METHOD:PUBLISH
X-ORIGINAL-URL:https://clementjames.org
X-WR-CALDESC:Events for The Clement JamesCentre
REFRESH-INTERVAL;VALUE=DURATION:PT1H
X-Robots-Tag:noindex
X-PUBLISHED-TTL:PT1H
BEGIN:VTIMEZONE
TZID:Europe/London
BEGIN:DAYLIGHT
TZOFFSETFROM:+0000
TZOFFSETTO:+0100
TZNAME:BST
DTSTART:20240331T010000
END:DAYLIGHT
BEGIN:STANDARD
TZOFFSETFROM:+0100
TZOFFSETTO:+0000
TZNAME:GMT
DTSTART:20241027T010000
END:STANDARD
END:VTIMEZONE
BEGIN:VEVENT
DTSTART;TZID=Europe/London:20240221T100000
DTEND;TZID=Europe/London:20240221T120000
DTSTAMP:20260419T161645
CREATED:20240206T144629Z
LAST-MODIFIED:20240206T144629Z
UID:8146-1708509600-1708516800@clementjames.org
SUMMARY:Green Doctors - Energy Talk
DESCRIPTION:As part of our Advice Winter Workshop series\, we’ll be hosting Green Doctors onsite at The ClementJames Centre. \nAre you struggling to heat your home this winter or cope with your energy bills? Come along this February and learn how to stay well and warm in your home and save money on your energy bills. The session will cover: \n\nAdvice on reducing energy use at home\nAccessing the water discounts or Priority Services Register\nSupport with energy or water debt relief\nHelp with small efficiency measures\, such as LED light bulbs\n\nOpen to residents of Kensington & Chelsea as well as professionals working locally. \nEmail advice@clementjames.org to register or give us a call on 020 7221 8810.
URL:https://clementjames.org/event/green-doctors-energy-talk/
ATTACH;FMTTYPE=image/png:https://clementjames.org/wp-content/uploads/2024/02/Calendar-Images-1.png
END:VEVENT
BEGIN:VEVENT
DTSTART;TZID=Europe/London:20240221T113000
DTEND;TZID=Europe/London:20240221T130000
DTSTAMP:20260419T161645
CREATED:20240206T144834Z
LAST-MODIFIED:20240213T095116Z
UID:8151-1708515000-1708520400@clementjames.org
SUMMARY:Weekly Wellbeing Group
DESCRIPTION:An informal space to come together with new people from your community and focus on your wellbeing. Discuss topics every week\, such as sleep\, motivation and stress\, and work together to develop wellbeing tools which you can take away with you. \nEmail welcome@clementjames.org for more information and book your slot here!
URL:https://clementjames.org/event/weekly-wellbeing-group-5/
ATTACH;FMTTYPE=image/png:https://clementjames.org/wp-content/uploads/2023/08/Untitled-design-59.png
END:VEVENT
END:VCALENDAR